BEGIN:VCALENDAR
VERSION:2.0
PRODID:-//ChamberMaster//Event Calendar 2.0//EN
METHOD:PUBLISH
X-PUBLISHED-TTL:P3D
REFRESH-INTERVAL:P3D
CALSCALE:GREGORIAN
BEGIN:VEVENT
DTSTART:20121108T220000Z
DTEND:20121109T000000Z
X-MICROSOFT-CDO-ALLDAYEVENT:FALSE
SUMMARY:Ribbon Cutting - Korrect Optical
DESCRIPTION:Korrect Optical Celebrates Grand Reopening  with Trunk Show \n\nTwo-day Trunk Show & Sale Highlights Renovated Optical Store \n\n \n\n \n\nWHAT:        Korrect Optical\, Louisville's leader in eye care and designer eyewear\, invites the community to celebrate its Grand Reopening this weekend at its Dupont / Dutchmans Lane Showroom.  \n\n \n\n                              The Grand Reopening will be highlighted by a special two-day Trunk Show & Sale that will feature hundreds of the latest\, most unique designer frame styles including Vera Wang\, Coach\, Brooks Brothers and Original Penguin.  \n\n \n\nWHO:           Korrect Optical will welcome designer representatives from Vera Wang and                                  Original Penguin on Friday\, November 9th.  \n\n \n\n                              The following day\, Saturday\, November 10th\, designer representatives from                                   Coach and Brooks Brothers will be present to assist customer. \n\n \n\nWHEN:       Friday\, November 9th   9:00 a.m. - 7:00 p.m.\n\n                              Saturday\, November 10th   9:00 a.m.   4:00 p.m. \n\n \n\nWHERE:   Korrect Optical \n\n                              4036 Dutchmans Lane \n\n                              Louisville\, KY 40207  \n\n \n\n \n\nABOUT KORRECT OPTICAL \n\nEstablished in 1929\, Korrect Optical is family-owned and operated in Louisville\, Kentucky.  Korrect Optical's primary goal is to provide customers with great value on the finest selection fashion and designer glasses and frames available.  Korrect Optical ensures that customers consult with licensed opticians and educate customers on how to take care of their eyes.  With two locations in Louisville   Dupont and Dixie   Korrect Optical provides personalized care at a convenient location. Nationally\, Korrect Optical is one of the largest providers to the V.A. Healthcare Network\; honoring those who have served our country and offering affordable eyewear to our nation's veterans.   For more information on Korrect Optical\, please visit www.Korrect.com.    \n\n \n\nMedia Contact                                                                                                                                                                  Matt Wilinger \n\n502-855-9192\n\nmwillinger@bisig.com\n\n###
X-ALT-DESC;FMTTYPE=text/html:<strong><span style="color:black\;"><span style="font-family:cambria\,serif\;"><span style="font-size:22.0pt\;">Korrect Optical Celebrates Grand Reopening&nbsp\; with Trunk Show </span></span></span></strong><br />\n<em><span style="color:black\;"><span style="font-family:cambria\,serif\;">Two-day Trunk Show &amp\; Sale Highlights Renovated Optical Store </span></span></em><br />\n&nbsp\;<br />\n&nbsp\;<br />\n<strong><span style="color:windowtext\;"><span style="font-family:cambria\,serif\;"><span style="font-size:16.0pt\;">WHAT:</span></span></span></strong>&nbsp\;&nbsp\;&nbsp\;&nbsp\;&nbsp\;&nbsp\; <span style="font-family:cambria\,serif\;"><span style="font-size:11.0pt\;">&nbsp\;Korrect Optical\, Louisville&rsquo\;s leader in eye care and designer eyewear\, invites the community to celebrate its Grand Reopening this weekend at its Dupont / Dutchmans Lane Showroom.&nbsp\; </span></span><br />\n&nbsp\;<br />\n<span style="font-family:cambria\,serif\;"><span style="font-size:11.0pt\;">&nbsp\;&nbsp\;&nbsp\;&nbsp\;&nbsp\;&nbsp\;&nbsp\;&nbsp\;&nbsp\;&nbsp\;&nbsp\;&nbsp\;&nbsp\;&nbsp\;&nbsp\;&nbsp\;&nbsp\;&nbsp\;&nbsp\;&nbsp\;&nbsp\;&nbsp\;&nbsp\;&nbsp\;&nbsp\;&nbsp\;&nbsp\;&nbsp\;&nbsp\; The Grand Reopening will be highlighted by a special two-day Trunk Show &amp\; Sale that will feature hundreds of the latest\, most unique designer frame styles including Vera Wang\, Coach\, Brooks Brothers and Original Penguin.&nbsp\; </span></span><br />\n&nbsp\;<br />\n<strong><span style="color:windowtext\;"><span style="font-family:cambria\,serif\;"><span style="font-size:16.0pt\;">WHO:</span></span></span></strong>&nbsp\;&nbsp\;&nbsp\;&nbsp\;&nbsp\;&nbsp\;&nbsp\;&nbsp\;&nbsp\;&nbsp\; <span style="font-family:cambria\,serif\;"><span style="font-size:11.0pt\;">Korrect Optical will welcome designer representatives from Vera Wang and &nbsp\;&nbsp\; &nbsp\;&nbsp\;&nbsp\;&nbsp\;&nbsp\;&nbsp\;&nbsp\;&nbsp\;&nbsp\;&nbsp\;&nbsp\;&nbsp\;&nbsp\;&nbsp\;&nbsp\;&nbsp\;&nbsp\;&nbsp\;&nbsp\;&nbsp\;&nbsp\;&nbsp\;&nbsp\;&nbsp\;&nbsp\;&nbsp\;&nbsp\;&nbsp\;&nbsp\; Original Penguin on Friday\, November 9th.&nbsp\; </span></span><br />\n&nbsp\;<br />\n<span style="font-family:cambria\,serif\;"><span style="font-size:11.0pt\;">&nbsp\;&nbsp\;&nbsp\;&nbsp\;&nbsp\;&nbsp\;&nbsp\;&nbsp\;&nbsp\;&nbsp\;&nbsp\;&nbsp\;&nbsp\;&nbsp\;&nbsp\;&nbsp\;&nbsp\;&nbsp\;&nbsp\;&nbsp\;&nbsp\;&nbsp\;&nbsp\;&nbsp\;&nbsp\;&nbsp\;&nbsp\;&nbsp\;&nbsp\; The following day\, Saturday\, November 10<sup>th</sup>\, designer representatives from &nbsp\;&nbsp\;&nbsp\; &nbsp\;&nbsp\;&nbsp\;&nbsp\;&nbsp\;&nbsp\;&nbsp\;&nbsp\;&nbsp\;&nbsp\;&nbsp\;&nbsp\;&nbsp\;&nbsp\;&nbsp\;&nbsp\;&nbsp\;&nbsp\;&nbsp\;&nbsp\;&nbsp\;&nbsp\;&nbsp\;&nbsp\;&nbsp\;&nbsp\;&nbsp\;&nbsp\;&nbsp\; Coach and Brooks Brothers will be present to assist customer. </span></span><br />\n&nbsp\;<br />\n<strong><span style="color:windowtext\;"><span style="font-family:cambria\,serif\;"><span style="font-size:16.0pt\;">WHEN:</span></span></span></strong><span style="color:windowtext\;"><span style="font-family:cambria\,serif\;"><span style="font-size:11.0pt\;">&nbsp\;&nbsp\;&nbsp\;&nbsp\;&nbsp\;&nbsp\; Friday\, November 9<sup>th</sup> &ndash\; 9:00 a.m. - 7:00 p.m.</span></span></span><br />\n<span style="color:windowtext\;"><span style="font-family:cambria\,serif\;"><span style="font-size:11.0pt\;">&nbsp\;&nbsp\;&nbsp\;&nbsp\;&nbsp\;&nbsp\;&nbsp\;&nbsp\;&nbsp\;&nbsp\;&nbsp\;&nbsp\;&nbsp\;&nbsp\;&nbsp\;&nbsp\;&nbsp\;&nbsp\;&nbsp\;&nbsp\;&nbsp\;&nbsp\;&nbsp\;&nbsp\;&nbsp\;&nbsp\;&nbsp\;&nbsp\;&nbsp\; Saturday\, November 10<sup>th</sup> &ndash\; 9:00 a.m. &ndash\; 4:00 p.m. </span></span></span><br />\n&nbsp\;<br />\n<strong><span style="color:windowtext\;"><span style="font-family:cambria\,serif\;"><span style="font-size:16.0pt\;">WHERE:</span></span></span></strong><span style="color:windowtext\;"><span style="font-family:cambria\,serif\;"><span style="font-size:11.0pt\;">&nbsp\;&nbsp\; Korrect Optical </span></span></span><br />\n<span style="color:windowtext\;"><span style="font-family:cambria\,serif\;"><span style="font-size:11.0pt\;">&nbsp\;&nbsp\;&nbsp\;&nbsp\;&nbsp\;&nbsp\;&nbsp\;&nbsp\;&nbsp\;&nbsp\;&nbsp\;&nbsp\;&nbsp\;&nbsp\;&nbsp\;&nbsp\;&nbsp\;&nbsp\;&nbsp\;&nbsp\;&nbsp\;&nbsp\;&nbsp\;&nbsp\;&nbsp\;&nbsp\;&nbsp\;&nbsp\;&nbsp\; 4036 Dutchmans Lane </span></span></span><br />\n<span style="color:windowtext\;"><span style="font-family:cambria\,serif\;"><span style="font-size:11.0pt\;">&nbsp\;&nbsp\;&nbsp\;&nbsp\;&nbsp\;&nbsp\;&nbsp\;&nbsp\;&nbsp\;&nbsp\;&nbsp\;&nbsp\;&nbsp\;&nbsp\;&nbsp\;&nbsp\;&nbsp\;&nbsp\;&nbsp\;&nbsp\;&nbsp\;&nbsp\;&nbsp\;&nbsp\;&nbsp\;&nbsp\;&nbsp\;&nbsp\;&nbsp\; Louisville\, KY 40207&nbsp\; </span></span></span><br />\n&nbsp\;<br />\n&nbsp\;<br />\n<strong><span style="font-family:cambria\,serif\;"><span style="font-size:11.0pt\;">ABOUT KORRECT OPTICAL </span></span></strong><br />\n<em><span style="font-family:cambria\,serif\;"><span style="font-size:11.0pt\;">Established in 1929\, Korrect Optical is family-owned and operated in Louisville\, Kentucky.&nbsp\; Korrect Optical&rsquo\;s primary goal is to provide customers with great value on the finest selection fashion and designer glasses and frames available.&nbsp\; Korrect Optical ensures that customers consult with licensed opticians and educate customers on how to take care of their eyes.&nbsp\; With two locations in Louisville &ndash\; Dupont and Dixie &ndash\; Korrect Optical provides personalized care at a convenient location. Nationally\, Korrect Optical is one of the largest providers to the V.A. Healthcare Network\; honoring those who have served our country and offering affordable eyewear to our nation&rsquo\;s veterans.&nbsp\;&nbsp\; For more information on Korrect Optical\, please visit <a href="http://www.korrect.com/">www.Korrect.com</a>.&nbsp\;&nbsp\;&nbsp\; </span></span></em><br />\n&nbsp\;<br />\n<strong><u><span style="font-family:cambria\,serif\;"><span style="font-size:11.0pt\;">Media Contact</span></span></u></strong>&nbsp\;&nbsp\;&nbsp\;&nbsp\;&nbsp\;&nbsp\;&nbsp\;&nbsp\;&nbsp\;&nbsp\;&nbsp\;&nbsp\;&nbsp\;&nbsp\;&nbsp\;&nbsp\;&nbsp\;&nbsp\;&nbsp\;&nbsp\;&nbsp\;&nbsp\;&nbsp\;&nbsp\;&nbsp\;&nbsp\;&nbsp\;&nbsp\;&nbsp\;&nbsp\;&nbsp\;&nbsp\;&nbsp\;&nbsp\;&nbsp\;&nbsp\;&nbsp\;&nbsp\;&nbsp\;&nbsp\;&nbsp\;&nbsp\;&nbsp\;&nbsp\;&nbsp\;&nbsp\;&nbsp\;&nbsp\;&nbsp\;&nbsp\;&nbsp\;&nbsp\;&nbsp\;&nbsp\;&nbsp\;&nbsp\;&nbsp\;&nbsp\;&nbsp\;&nbsp\;&nbsp\;&nbsp\;&nbsp\;&nbsp\;&nbsp\;&nbsp\;&nbsp\;&nbsp\;&nbsp\;&nbsp\;&nbsp\;&nbsp\;&nbsp\;&nbsp\;&nbsp\;&nbsp\;&nbsp\;&nbsp\;&nbsp\;&nbsp\;&nbsp\;&nbsp\;&nbsp\;&nbsp\;&nbsp\;&nbsp\;&nbsp\;&nbsp\;&nbsp\;&nbsp\;&nbsp\;&nbsp\;&nbsp\;&nbsp\;&nbsp\;&nbsp\;&nbsp\;&nbsp\;&nbsp\;&nbsp\;&nbsp\;&nbsp\;&nbsp\;&nbsp\; &nbsp\;&nbsp\;&nbsp\;&nbsp\;&nbsp\;&nbsp\;&nbsp\;&nbsp\;&nbsp\;&nbsp\;&nbsp\; &nbsp\;&nbsp\;&nbsp\;&nbsp\;&nbsp\;&nbsp\;&nbsp\;&nbsp\;&nbsp\;&nbsp\;&nbsp\;&nbsp\;&nbsp\;&nbsp\;&nbsp\;&nbsp\;&nbsp\; &nbsp\;&nbsp\;&nbsp\;&nbsp\;&nbsp\;&nbsp\;&nbsp\;&nbsp\;&nbsp\;&nbsp\;&nbsp\;&nbsp\;&nbsp\;&nbsp\;&nbsp\;&nbsp\;&nbsp\;&nbsp\;&nbsp\;&nbsp\;&nbsp\;&nbsp\;&nbsp\;&nbsp\;&nbsp\;&nbsp\;&nbsp\;<span style="color:windowtext\;"><span style="font-family:cambria\,serif\;"><span style="font-size:11.0pt\;">Matt Wilinger </span></span></span><br />\n<strong><span style="font-weight:normal\;"><span style="font-family:cambria\,serif\;"><span style="font-size:11.0pt\;">502-855-9192</span></span></span></strong><br />\n<span style="color:windowtext\;"><span style="font-family:cambria\,serif\;"><span style="font-size:11.0pt\;"><a href="mailto:mwillinger@bisig.com">mwillinger@bisig.com</a></span></span></span><br />\n<span style="font-family:cambria\,serif\;"><span style="font-size:11.0pt\;">###</span></span>
LOCATION:
UID:e.9037.1307
SEQUENCE:3
DTSTAMP:20260422T042958Z
URL:https://business.stmatthewschamber.com/events/details/ribbon-cutting-korrect-optical-11-08-2012-1307
END:VEVENT

END:VCALENDAR
