BEGIN:VCALENDAR
VERSION:2.0
PRODID:-//ChamberMaster//Event Calendar 2.0//EN
METHOD:PUBLISH
X-PUBLISHED-TTL:P3D
REFRESH-INTERVAL:P3D
CALSCALE:GREGORIAN
BEGIN:VEVENT
DTSTART:20130722T150000Z
DTEND:20130722T160000Z
X-MICROSOFT-CDO-ALLDAYEVENT:FALSE
SUMMARY:Ribbon Cutting for Tom + Chee St. Matthews
DESCRIPTION:Please join us on \n\nMonday\, July 22\, 2013 \n\nat \n\n11 a.m. \n\nto celebrate the \n\nRibbon Cutting Ceremony\n\n for \n\nTom + Chee St. Matthews\n\nlocated at\n\n111 St. Matthews Avenue\n\nLouisville\, KY 40207\n\n \n\nHope to see you there!
X-ALT-DESC;FMTTYPE=text/html:<span style="font-family:century gothic\;"><span style="font-size:20.0pt\;">Please join us on </span></span><br />\n<span style="font-weight:bold\;language:en-US\;"><span style="font-family:century gothic\;"><span style="font-size:20.0pt\;">Monday\, July 22\, 2013 </span></span></span><br />\n<span style="font-family:century gothic\;"><span style="font-size:20.0pt\;">at </span></span><br />\n<span style="font-weight:bold\;language:en-US\;"><span style="font-family:century gothic\;"><span style="font-size:20.0pt\;">11 a.m. </span></span></span><br />\n<span style="font-family:century gothic\;"><span style="font-size:20.0pt\;">to celebrate the </span></span><br />\n<span style="font-family:century gothic\;"><span style="font-size:20.0pt\;">Ribbon Cutting Ceremony</span></span><br />\n<span style="font-family:century gothic\;"><span style="font-size:20.0pt\;">&nbsp\;for </span></span><br />\n<span style="font-weight:bold\;language:en-US\;"><span style="font-family:century gothic\;"><span style="font-size:20.0pt\;">Tom + Chee St. Matthews</span></span></span><br />\n<span style="font-family:century gothic\;"><span style="font-size:20.0pt\;">located at</span></span><br />\n<span style="font-weight:bold\;language:en-US\;"><span style="font-family:century gothic\;"><span style="font-size:20.0pt\;">111 St. Matthews Avenue</span></span></span><br />\n<span style="font-weight:bold\;language:en-US\;"><span style="font-family:century gothic\;"><span style="font-size:20.0pt\;">Louisville\, KY 40207</span></span></span><br />\n&nbsp\;<br />\n<span style="font-family:century gothic\;"><span style="font-size:20.0pt\;">Hope to see you there!</span></span><br />\n&nbsp\;<br />\n
LOCATION:Tom + Chee St. Matthews located at 111 St. Matthews Avenue Louisville\, KY 40207
UID:e.9037.1593
SEQUENCE:3
DTSTAMP:20260421T155204Z
URL:https://business.stmatthewschamber.com/events/details/ribbon-cutting-for-tom-chee-st-matthews-07-22-2013-1593
END:VEVENT

END:VCALENDAR
