BEGIN:VCALENDAR
VERSION:2.0
PRODID:-//ChamberMaster//Event Calendar 2.0//EN
METHOD:PUBLISH
X-PUBLISHED-TTL:P3D
REFRESH-INTERVAL:P3D
CALSCALE:GREGORIAN
BEGIN:VEVENT
DTSTART:20260506T190000Z
DTEND:20260506T210000Z
X-MICROSOFT-CDO-ALLDAYEVENT:FALSE
SUMMARY:Ribbon Cutting for Hallmark House Celebrating 10 years!
DESCRIPTION:Ribbon Cutting Celebration\n\nJoin us as we celebrate 10 years of Hallmark House!\n\nThe Chamber St. Matthews is excited to host a Ribbon Cutting in honor of Hallmark House's 10-Year Anniversary.\n\nTuesday\, May 6\n\n3:00 PM-5:00 PM\n\n10301 Coneflower Lane\, Prospect\, KY 40059\n\nCome help us celebrate this milestone\, show your support\, and connect with fellow Chamber members and community leaders.\n\nWe hope to see you there!
X-ALT-DESC;FMTTYPE=text/html:Ribbon Cutting Celebration<br />\nJoin us as we celebrate 10 years of Hallmark House!<br />\nThe Chamber St. Matthews is excited to host a Ribbon Cutting in honor of Hallmark House&rsquo\;s 10-Year Anniversary.<br />\n<span style="font-family:segoe ui emoji\,sans-serif\;">T</span>uesday\, May 6<br />\n3:00 PM-5:00 PM<br />\n10301 Coneflower Lane\, Prospect\, KY 40059<br />\nCome help us celebrate this milestone\, show your support\, and connect with fellow Chamber members and community leaders.<br />\nWe hope to see you there!\n<table align="left" border="0" cellpadding="0" cellspacing="0" dir="rtl">\n	<tbody>\n	</tbody>\n</table>\n
LOCATION:10301 Coneflower Lane\, Prospect\, KY 40059
UID:e.9037.14326
SEQUENCE:3
DTSTAMP:20260420T090431Z
URL:https://business.stmatthewschamber.com/events/details/ribbon-cutting-for-hallmark-house-celebrating-10-years-14326
END:VEVENT

END:VCALENDAR
