BEGIN:VCALENDAR
VERSION:2.0
PRODID:-//ChamberMaster//Event Calendar 2.0//EN
METHOD:PUBLISH
X-PUBLISHED-TTL:P3D
REFRESH-INTERVAL:P3D
CALSCALE:GREGORIAN
BEGIN:VEVENT
DTSTART:20121114T223000Z
DTEND:20121115T000000Z
X-MICROSOFT-CDO-ALLDAYEVENT:FALSE
SUMMARY:Ribbon Cutting - Flooring Depot
DESCRIPTION:We are proud to announce the Ribbon Cutting for Flooring Depot.\n\n\n\nWednesday\, the Fourteenth of November five thirty to seven o'clock in the evening with the ribbon cutting ceremony being held at six. Then stay to enjoy networking with your fellow Chamber members.\n\n\n\nLocated at 8130 New LaGrange Road\, Louisville\, KY 40222
X-ALT-DESC;FMTTYPE=text/html:We are proud to announce the Ribbon Cutting for Flooring Depot.<br />\n<br />\nWednesday\, the Fourteenth of November five thirty to seven o&#39\;clock in the evening with the ribbon cutting ceremony being held at six. Then stay to enjoy networking with your fellow Chamber members.<br />\n<br />\nLocated at 8130 New LaGrange Road\, Louisville\, KY 40222
LOCATION:8130 New LaGrange Road\, Louisville\, KY 40222
UID:e.9037.1311
SEQUENCE:3
DTSTAMP:20260422T042223Z
URL:https://business.stmatthewschamber.com/events/details/ribbon-cutting-flooring-depot-11-14-2012-1311
END:VEVENT

END:VCALENDAR
