BEGIN:VCALENDAR
VERSION:2.0
PRODID:-//ChamberMaster//Event Calendar 2.0//EN
METHOD:PUBLISH
X-PUBLISHED-TTL:P3D
REFRESH-INTERVAL:P3D
CALSCALE:GREGORIAN
BEGIN:VEVENT
DTSTART:20130919T200000Z
DTEND:20130919T230000Z
X-MICROSOFT-CDO-ALLDAYEVENT:FALSE
SUMMARY:Ribbon Cutting: Eline Realty Company Celebrating 100 Years in Business
DESCRIPTION:
X-ALT-DESC;FMTTYPE=text/html:
LOCATION:
UID:e.9037.1599
SEQUENCE:3
DTSTAMP:20260421T123036Z
URL:https://business.stmatthewschamber.com/events/details/ribbon-cutting-eline-realty-company-celebrating-100-years-in-business-09-19-2013-1599
END:VEVENT

END:VCALENDAR
