BEGIN:VCALENDAR
VERSION:2.0
PRODID:-//ChamberMaster//Event Calendar 2.0//EN
METHOD:PUBLISH
X-PUBLISHED-TTL:P3D
REFRESH-INTERVAL:P3D
CALSCALE:GREGORIAN
BEGIN:VEVENT
DTSTART:20121008T210000Z
DTEND:20121008T230000Z
X-MICROSOFT-CDO-ALLDAYEVENT:FALSE
SUMMARY:Ribbon Cutting - Brooke's Pro Cleaning
DESCRIPTION:
X-ALT-DESC;FMTTYPE=text/html:
LOCATION:
UID:e.9037.1304
SEQUENCE:3
DTSTAMP:20260422T043222Z
URL:https://business.stmatthewschamber.com/events/details/ribbon-cutting-brooke-s-pro-cleaning-10-08-2012-1304
END:VEVENT

END:VCALENDAR
