BEGIN:VCALENDAR
VERSION:2.0
PRODID:-//ChamberMaster//Event Calendar 2.0//EN
METHOD:PUBLISH
X-PUBLISHED-TTL:P3D
REFRESH-INTERVAL:P3D
CALSCALE:GREGORIAN
BEGIN:VEVENT
DTSTART:20260325T193000Z
DTEND:20260325T203000Z
X-MICROSOFT-CDO-ALLDAYEVENT:FALSE
SUMMARY:Ribbon Cutting at HealthSpan Center at Medical Transformation Center (MTC)!
DESCRIPTION:Grand Opening & Ribbon Cutting! \n\nThe Chamber St. Matthews is excited to host a ribbon cutting for the brand new HealthSpan Center at Medical Transformation Center (MTC)!\n\n  March 25\, 2026\n\n  3:30 PM\n\n  13111 Eastpoint Park Blvd\, Louisville\, KY 40223\n\nSpecializing in cellular and regenerative medicine\, MTC supports patients with unresolved medical concerns\, managing diagnoses\, and optimizing overall performance and healthspan.\n\nThe new HealthSpan Center is an extension of MTC's personalized approach to care   designed to help patients build strength\, resilience\, and recovery into everyday life.\n\nCome celebrate this exciting milestone and welcome the HealthSpan Center to the community!
X-ALT-DESC;FMTTYPE=text/html:<div style="color: rgb(0\, 0\, 0)\; font-family: &quot\;Segoe UI&quot\;\; font-size: 14px\; line-height: 20px\;">\n<p>&nbsp\;<strong>Grand Opening &amp\; Ribbon Cutting!</strong>&nbsp\;</p>\n\n<p>The <strong>Chamber</strong> <strong style="color: rgb(0\, 0\, 0)\; font-family: &quot\;Segoe UI&quot\;\; font-size: 14px\;">St. Matthews&nbsp\;</strong>is excited to host a ribbon cutting for the brand&#8209\;new <strong>HealthSpan Center at Medical Transformation Center (MTC)!</strong></p>\n\n<p>&#128197\; <strong>March 25\, 2026</strong><br />\n&#9200\; <strong>3:30 PM</strong><br />\n&#128205\; <strong>13111 Eastpoint Park Blvd\, Louisville\, KY 40223</strong></p>\n\n<p>Specializing in <strong>cellular and regenerative medicine</strong>\, MTC supports patients with unresolved medical concerns\, managing diagnoses\, and optimizing overall performance and healthspan.</p>\n\n<p>The new <strong>HealthSpan Center</strong> is an extension of MTC&rsquo\;s personalized approach to care &mdash\; designed to help patients build <strong>strength\, resilience\, and recovery</strong> into everyday life.</p>\n\n<p>Come celebrate this exciting milestone and welcome the HealthSpan Center to the community! &#9986\;&#65039\;&#10024\;</p>\n</div>\n
LOCATION:13111 Eastpoint Park Blvd\, Louisville\, KY 40223
UID:e.9037.14307
SEQUENCE:3
DTSTAMP:20260422T103910Z
URL:https://business.stmatthewschamber.com/events/details/ribbon-cutting-at-healthspan-center-at-medical-transformation-center-mtc-14307
END:VEVENT

END:VCALENDAR
