BEGIN:VCALENDAR
VERSION:2.0
PRODID:-//ChamberMaster//Event Calendar 2.0//EN
METHOD:PUBLISH
X-PUBLISHED-TTL:P3D
REFRESH-INTERVAL:P3D
CALSCALE:GREGORIAN
BEGIN:VEVENT
DTSTART:20131206T170000Z
DTEND:20131206T180000Z
X-MICROSOFT-CDO-ALLDAYEVENT:FALSE
SUMMARY:Ribbon Cutting: A Breath of Serenity
DESCRIPTION:Annual Holiday sale/open house. There will be refreshments and all items and regularly priced services will be 20%off.  We are excited about their move and hope to make this a big success!
X-ALT-DESC;FMTTYPE=text/html:<span style="font-family:times new roman\,serif\;"><span style="font-size:12.0pt\;">Annual Holiday sale/open house. There will be refreshments and&nbsp\;all items and regularly priced services will be 20%off.&nbsp\;&nbsp\;We are excited about their move and hope to make this a big success!</span></span>
LOCATION:A Breath of Serenity\, Therapeutic Massage 117 S.Hubbards Lane\, Suite 94 Louisville\, KY 40207 502-614-8444
UID:e.9037.1629
SEQUENCE:3
DTSTAMP:20260425T214644Z
URL:https://business.stmatthewschamber.com/events/details/ribbon-cutting-a-breath-of-serenity-12-06-2013-1629
END:VEVENT

END:VCALENDAR
