BEGIN:VCALENDAR
VERSION:2.0
PRODID:-//ChamberMaster//Event Calendar 2.0//EN
METHOD:PUBLISH
X-PUBLISHED-TTL:P3D
REFRESH-INTERVAL:P3D
CALSCALE:GREGORIAN
BEGIN:VEVENT
DTSTART;VALUE=DATE:20110912
DTEND;VALUE=DATE:20110913
TRANSP:TRANSPARENT
X-MICROSOFT-CDO-ALLDAYEVENT:TRUE
SUMMARY:Ribbon Cutting/150th Anniversary Heimerdinger Cutlery Co.
DESCRIPTION:Come join SMABA and Heimerdinger Cutlery Co. for their 150th Anniversary.  The week of September 12th Heimerdinger's will be celebrating all week so please stop in after all you may win a prize.  Each day there will be drawings for a variety of special products.
X-ALT-DESC;FMTTYPE=text/html:Come join SMABA and Heimerdinger Cutlery Co. for their 150th Anniversary.&nbsp\; The week of September 12th Heimerdinger&#39\;s will be celebrating all week so please stop in after all you may win a prize.&nbsp\; Each day there will be drawings for a variety of special products. 
LOCATION:4207 Shelbyville Road Louisville\, KY 40207
UID:e.9037.85
SEQUENCE:3
DTSTAMP:20260425T004352Z
URL:https://business.stmatthewschamber.com/events/details/ribbon-cutting-150th-anniversary-heimerdinger-cutlery-co-09-12-2011-85
END:VEVENT

END:VCALENDAR
