BEGIN:VCALENDAR
VERSION:2.0
PRODID:-//ChamberMaster//Event Calendar 2.0//EN
METHOD:PUBLISH
X-PUBLISHED-TTL:P3D
REFRESH-INTERVAL:P3D
CALSCALE:GREGORIAN
BEGIN:VEVENT
DTSTART:20120515T220000Z
DTEND:20120516T000000Z
X-MICROSOFT-CDO-ALLDAYEVENT:FALSE
SUMMARY:Rheumatoid Arthritis Relief
DESCRIPTION:Rheumatoid Arthritis Relief\n\n\n\nRheumatoid arthritis affects nearly 1.3 million Americans and can have complications beyond stiff\, painful and inflamed joints. However\, early treatment can help manage complications. Join rheumatologist Troy Takagishi\, M.D.\, for a free seminar and question-and-anwer session about options for treating rheumatoid arthritis pain.\n\n\n\nMay 15 | 6 - 7\;30 p.m.\n\n\n\nTo register\, call (502) 629-1234.
X-ALT-DESC;FMTTYPE=text/html:<strong>Rheumatoid Arthritis Relief</strong><br />\n<br />\nRheumatoid arthritis affects nearly 1.3 million Americans and can have complications beyond stiff\, painful and inflamed joints. However\, early treatment can help manage complications. Join rheumatologist Troy Takagishi\, M.D.\, for a free seminar and question-and-anwer session about options for treating rheumatoid arthritis pain.<br />\n<br />\n<strong>May 15 </strong>| 6 - 7\;30 p.m.<br />\n<br />\nTo register\, call (502) <strong>629-1234</strong>.
LOCATION:Marshall Women's Health & Education Center Norton Suburban Hospital | Plaza III | Classroom IB
UID:e.9037.1050
SEQUENCE:3
DTSTAMP:20260424T134058Z
URL:https://business.stmatthewschamber.com/events/details/rheumatoid-arthritis-relief-05-15-2012-1050
END:VEVENT

END:VCALENDAR
