BEGIN:VCALENDAR
VERSION:2.0
PRODID:-//ChamberMaster//Event Calendar 2.0//EN
METHOD:PUBLISH
X-PUBLISHED-TTL:P3D
REFRESH-INTERVAL:P3D
CALSCALE:GREGORIAN
BEGIN:VEVENT
DTSTART:20130820T180000Z
DTEND:20130820T190000Z
X-MICROSOFT-CDO-ALLDAYEVENT:FALSE
SUMMARY:Retail and Resturant Meeting
DESCRIPTION:
X-ALT-DESC;FMTTYPE=text/html:
LOCATION:
UID:e.9037.1369
SEQUENCE:3
DTSTAMP:20260421T122734Z
URL:https://business.stmatthewschamber.com/events/details/retail-and-resturant-meeting-08-20-2013-1369
END:VEVENT

END:VCALENDAR
