BEGIN:VCALENDAR
VERSION:2.0
PRODID:-//ChamberMaster//Event Calendar 2.0//EN
METHOD:PUBLISH
X-PUBLISHED-TTL:P3D
REFRESH-INTERVAL:P3D
CALSCALE:GREGORIAN
BEGIN:VEVENT
DTSTART:20120918T180000Z
DTEND:20120918T190000Z
X-MICROSOFT-CDO-ALLDAYEVENT:FALSE
SUMMARY:Retail and Restaurants Meeting
DESCRIPTION:Come join your fellow retailers and restaurant owners as we continue our Business Matters program with a conversation about Social Networking - Optimizing for Retail presented by Chris Whigham\, Derby City Social Media.
X-ALT-DESC;FMTTYPE=text/html:Come join your fellow retailers and restaurant owners as we continue our Business Matters program with a conversation about Social Networking - Optimizing for Retail presented by Chris Whigham\, Derby City Social Media.&nbsp\;&nbsp\;&nbsp\; &nbsp\;&nbsp\;&nbsp\; 
LOCATION:60 West Bistro and Martini Bar 3939 Shelbyville Road Louisville\, KY 40207
UID:e.9037.1295
SEQUENCE:3
DTSTAMP:20260422T060535Z
URL:https://business.stmatthewschamber.com/events/details/retail-and-restaurants-meeting-09-18-2012-1295
END:VEVENT

END:VCALENDAR
