BEGIN:VCALENDAR
VERSION:2.0
PRODID:-//ChamberMaster//Event Calendar 2.0//EN
METHOD:PUBLISH
X-PUBLISHED-TTL:P3D
REFRESH-INTERVAL:P3D
CALSCALE:GREGORIAN
BEGIN:VEVENT
DTSTART:20121023T180000Z
DTEND:20121023T190000Z
X-MICROSOFT-CDO-ALLDAYEVENT:FALSE
SUMMARY:Retail and Restaurant Meeting
DESCRIPTION:
X-ALT-DESC;FMTTYPE=text/html:
LOCATION:60 West Bistro Shelbyville Road
UID:e.9037.1308
SEQUENCE:3
DTSTAMP:20260422T043103Z
URL:https://business.stmatthewschamber.com/events/details/retail-and-restaurant-meeting-10-23-2012-1308
END:VEVENT

END:VCALENDAR
