BEGIN:VCALENDAR
VERSION:2.0
PRODID:-//ChamberMaster//Event Calendar 2.0//EN
METHOD:PUBLISH
X-PUBLISHED-TTL:P3D
REFRESH-INTERVAL:P3D
CALSCALE:GREGORIAN
BEGIN:VEVENT
DTSTART:20130521T180000Z
DTEND:20130521T190000Z
X-MICROSOFT-CDO-ALLDAYEVENT:FALSE
SUMMARY:Retail and Restaurant Meeting
DESCRIPTION:
X-ALT-DESC;FMTTYPE=text/html:
LOCATION:
UID:e.9037.1348
SEQUENCE:3
DTSTAMP:20260421T191900Z
URL:https://business.stmatthewschamber.com/events/details/retail-and-restaurant-meeting-05-21-2013-1348
END:VEVENT

END:VCALENDAR
