BEGIN:VCALENDAR
VERSION:2.0
PRODID:-//ChamberMaster//Event Calendar 2.0//EN
METHOD:PUBLISH
X-PUBLISHED-TTL:P3D
REFRESH-INTERVAL:P3D
CALSCALE:GREGORIAN
BEGIN:VEVENT
DTSTART:20130416T180000Z
DTEND:20130416T190000Z
X-MICROSOFT-CDO-ALLDAYEVENT:FALSE
SUMMARY:Retail and Restaurant Meeting
DESCRIPTION:
X-ALT-DESC;FMTTYPE=text/html:
LOCATION:
UID:e.9037.1342
SEQUENCE:3
DTSTAMP:20260421T191839Z
URL:https://business.stmatthewschamber.com/events/details/retail-and-restaurant-meeting-04-16-2013-1342
END:VEVENT

END:VCALENDAR
