BEGIN:VCALENDAR
VERSION:2.0
PRODID:-//ChamberMaster//Event Calendar 2.0//EN
METHOD:PUBLISH
X-PUBLISHED-TTL:P3D
REFRESH-INTERVAL:P3D
CALSCALE:GREGORIAN
BEGIN:VEVENT
DTSTART:20131207T230000Z
DTEND:20131208T010000Z
X-MICROSOFT-CDO-ALLDAYEVENT:FALSE
SUMMARY:Result Physiotherapy Open House
DESCRIPTION:Come join us for our Newest Physical\n\nTherapy Location open house and ribbon\n\ncutting the night of Bardstown Rd. Aglow\n\n\n\nrsvp:\n\nBy 12/01/2013\n\nBrooke Blackford\n\n502-500-4355\n\nor\n\nbrooke.blackford@resultsphysiotherapy.com
X-ALT-DESC;FMTTYPE=text/html:Come join us for our Newest Physical<br />\nTherapy Location open house and ribbon<br />\ncutting the night of Bardstown Rd. Aglow<br />\n<br />\n<span style="font-size:20px\;"><strong>rsvp:</strong></span><br />\n<span style="font-size:16px\;"><span style="color: rgb(255\, 0\, 0)\;">By 12/01/2013</span></span><br />\n<strong><span style="font-size:14px\;"><em>Brooke Blackford<br />\n502-500-4355<br />\nor<br />\n<a href="mailto:brooke.blackford@resultsphysiotherapy.com?subject=Open%20House%20RSVP">brooke.blackford@resultsphysiotherapy.com</a></em></span></strong>
LOCATION:At the corner of Bardstown Rd and Grinstead Dr. Results Physiotherapy 2011 Grinstead Dr. #102 Louisville\, Ky 40204 P# (502) 813-7838
UID:e.9037.1628
SEQUENCE:3
DTSTAMP:20260425T214452Z
URL:https://business.stmatthewschamber.com/events/details/result-physiotherapy-open-house-12-07-2013-1628
END:VEVENT

END:VCALENDAR
