BEGIN:VCALENDAR
VERSION:2.0
PRODID:-//ChamberMaster//Event Calendar 2.0//EN
METHOD:PUBLISH
X-PUBLISHED-TTL:P3D
REFRESH-INTERVAL:P3D
CALSCALE:GREGORIAN
BEGIN:VEVENT
DTSTART:20130122T190000Z
DTEND:20130122T200000Z
X-MICROSOFT-CDO-ALLDAYEVENT:FALSE
SUMMARY:Restaurant and Retail Meeting
DESCRIPTION:
X-ALT-DESC;FMTTYPE=text/html:
LOCATION:
UID:e.9037.1325
SEQUENCE:3
DTSTAMP:20260422T001223Z
URL:https://business.stmatthewschamber.com/events/details/restaurant-and-retail-meeting-01-22-2013-1325
END:VEVENT

END:VCALENDAR
