BEGIN:VCALENDAR
VERSION:2.0
PRODID:-//ChamberMaster//Event Calendar 2.0//EN
METHOD:PUBLISH
X-PUBLISHED-TTL:P3D
REFRESH-INTERVAL:P3D
CALSCALE:GREGORIAN
BEGIN:VEVENT
DTSTART:20140209T180000Z
DTEND:20140209T230000Z
X-MICROSOFT-CDO-ALLDAYEVENT:FALSE
SUMMARY:Rail Jam for Freedom
DESCRIPTION:
X-ALT-DESC;FMTTYPE=text/html:
LOCATION:Bethel St. Paul Church 4004 Shelbyville Road Louisville\, KY 40207
UID:e.9037.1643
SEQUENCE:3
DTSTAMP:20260425T235515Z
URL:https://business.stmatthewschamber.com/events/details/rail-jam-for-freedom-02-09-2014-1643
END:VEVENT

END:VCALENDAR
