BEGIN:VCALENDAR
VERSION:2.0
PRODID:-//ChamberMaster//Event Calendar 2.0//EN
METHOD:PUBLISH
X-PUBLISHED-TTL:P3D
REFRESH-INTERVAL:P3D
CALSCALE:GREGORIAN
BEGIN:VEVENT
DTSTART:20120316T120000Z
DTEND:20120316T140000Z
X-MICROSOFT-CDO-ALLDAYEVENT:FALSE
SUMMARY:Prostate Cancer Treatment Options Talk at Baptist East/Milestone Wellness Center
DESCRIPTION:Radiation Oncologist Ben M. Birkhead\, MD\, will discuss treatment options for newly diagnosed prostate cancer patients\, providing objective information that may help men make thoughtful and informed decisions.\n\n\n\nThe discussion will be informal and there will be ample time for questions.\n\n\n\nParticipants should bring information about their PSA scores\, Gleason score from their biopsy and general information about their health and family history to make the discussion more meaningful.\n\n\n\nThe next session will be at 8 a.m. Friday\, March 16 at the Baptist East/Milestone Wellness Center\, 750 Cypress Station Drive near the Mall St. Matthews in the first-floor meeting rooms near the Center Caf . There is no cost to attend.\n\n\n\nFor more information\, or to register\, call the Baptist East Information Center at\n\n(502) 897-8131.
X-ALT-DESC;FMTTYPE=text/html:Radiation Oncologist Ben M. Birkhead\, MD\, will discuss treatment options for newly diagnosed prostate cancer patients\, providing objective information that may help men make thoughtful and informed decisions.<br />\n<br />\nThe discussion will be informal and there will be ample time for questions.<br />\n<br />\nParticipants should bring information about their PSA scores\, Gleason score from their biopsy and general information about their health and family history to make the discussion more meaningful.<br />\n<br />\nThe next session will be at 8 a.m. Friday\, March 16 at the Baptist East/Milestone Wellness Center\, 750 Cypress Station Drive near the Mall St. Matthews in the first-floor meeting rooms near the Center Caf&eacute\;. There is no cost to attend.<br />\n<br />\nFor more information\, or to register\, call the Baptist East Information Center at<br />\n(502) 897-8131.<br />\n
LOCATION:Baptist East/Milestone Wellness Center\, 750 Cypress Station Drive near the Mall St. Matthews in the first-floor meeting rooms near the Center Café.
UID:e.9037.1009
SEQUENCE:3
DTSTAMP:20260424T164016Z
URL:https://business.stmatthewschamber.com/events/details/prostate-cancer-treatment-options-talk-at-baptist-east-milestone-wellness-center-03-16-2012-1009
END:VEVENT

END:VCALENDAR
