BEGIN:VCALENDAR
VERSION:2.0
PRODID:-//ChamberMaster//Event Calendar 2.0//EN
METHOD:PUBLISH
X-PUBLISHED-TTL:P3D
REFRESH-INTERVAL:P3D
CALSCALE:GREGORIAN
BEGIN:VEVENT
DTSTART:20120412T230000Z
DTEND:20120413T001500Z
X-MICROSOFT-CDO-ALLDAYEVENT:FALSE
SUMMARY:Power Hour Event at Baptist Hospital East
DESCRIPTION:Learn to look at your life in the "big picture" and make progress toward your goals through a free Power Hour session with Personal Life Coach Stacey Vicari. Power Hour will be from 7-8:15 p.m. Thursday\, April 12 at the Baptist East/Milestone Wellness Center\, 750 Cypress Station Drive. Vicari will help you examine what matters most in your life\, and what stands in the way of bringing those true priorities to the forefront. She will help you learn how to put more energy into what's important to you by shutting off the energy drains in your life. The Power Hour is offered each month at the Wellness Center. The Indiana University Kelley School of Business graduate draws on her life experiences\, leadership expertise\, and knack for motivation to help others discover their ideal life. For more information\, call Ideal Life at (502) 459-8565\, or visit myideallife.com.
X-ALT-DESC;FMTTYPE=text/html:Learn to look at your life in the &ldquo\;big picture&rdquo\; and make progress toward your goals through a free Power Hour session with Personal Life Coach Stacey Vicari. Power Hour will be from 7-8:15 p.m. Thursday\, April 12 at the Baptist East/Milestone Wellness Center\, 750 Cypress Station Drive. Vicari will help you examine what matters most in your life\, and what stands in the way of bringing those true priorities to the forefront. She will help you learn how to put more energy into what&rsquo\;s important to you by shutting off the energy drains in your life. The Power Hour is offered each month at the Wellness Center. The Indiana University Kelley School of Business graduate draws on her life experiences\, leadership expertise\, and knack for motivation to help others discover their ideal life. For more information\, call Ideal Life at (502) 459-8565\, or visit myideallife.com.
LOCATION:Baptist East/Milestone Wellness Center\, 750 Cypress Station Drive
UID:e.9037.1021
SEQUENCE:3
DTSTAMP:20260424T152706Z
URL:https://business.stmatthewschamber.com/events/details/power-hour-event-at-baptist-hospital-east-04-12-2012-1021
END:VEVENT

END:VCALENDAR
