BEGIN:VCALENDAR
VERSION:2.0
PRODID:-//ChamberMaster//Event Calendar 2.0//EN
METHOD:PUBLISH
X-PUBLISHED-TTL:P3D
REFRESH-INTERVAL:P3D
CALSCALE:GREGORIAN
BEGIN:VEVENT
DTSTART:20130411T140000Z
DTEND:20130411T160000Z
X-MICROSOFT-CDO-ALLDAYEVENT:FALSE
SUMMARY:Postpartum Depression Support Group
DESCRIPTION:Offers information and support for women experiencing\n\npostpartum depression
X-ALT-DESC;FMTTYPE=text/html:Offers information and support for women experiencing<br />\npostpartum depression
LOCATION:Marshall Women's Health & Education Center\, Norton Medical Plaza III Suburban\, Suite 108
UID:e.9037.1520
SEQUENCE:3
DTSTAMP:20260425T132142Z
URL:https://business.stmatthewschamber.com/events/details/postpartum-depression-support-group-04-11-2013-1520
END:VEVENT

END:VCALENDAR
