BEGIN:VCALENDAR
VERSION:2.0
PRODID:-//ChamberMaster//Event Calendar 2.0//EN
METHOD:PUBLISH
X-PUBLISHED-TTL:P3D
REFRESH-INTERVAL:P3D
CALSCALE:GREGORIAN
BEGIN:VEVENT
DTSTART;VALUE=DATE:20130406
DTEND;VALUE=DATE:20130408
TRANSP:TRANSPARENT
X-MICROSOFT-CDO-ALLDAYEVENT:TRUE
SUMMARY:Poe's Pet Depot Grand Opening
DESCRIPTION:Come see our Grand Opening!  We will have free samples of food and other items as well as a pet adoption on site.  We look forward to serving our neighbors!
X-ALT-DESC;FMTTYPE=text/html:Come see our Grand Opening!&nbsp\; We will have free samples of food and other items as well as a pet adoption on site.&nbsp\; We look forward to serving our neighbors!
LOCATION:
UID:e.9037.1428
SEQUENCE:3
DTSTAMP:20260425T133211Z
URL:https://business.stmatthewschamber.com/events/details/poe-s-pet-depot-grand-opening-04-06-2013-1428
END:VEVENT

END:VCALENDAR
