BEGIN:VCALENDAR
VERSION:2.0
PRODID:-//ChamberMaster//Event Calendar 2.0//EN
METHOD:PUBLISH
X-PUBLISHED-TTL:P3D
REFRESH-INTERVAL:P3D
CALSCALE:GREGORIAN
BEGIN:VEVENT
DTSTART:20121202T160000Z
DTEND:20121202T220000Z
X-MICROSOFT-CDO-ALLDAYEVENT:FALSE
SUMMARY:Photos of Families and Dogs with Santa
DESCRIPTION:Photos of families and dogs with Santa\, part of the proceeds go to charity.
X-ALT-DESC;FMTTYPE=text/html:Photos of families and dogs with Santa\, part of the proceeds go to charity.
LOCATION:Three Dog Bakery Chenoweth Square
UID:e.9037.1314
SEQUENCE:3
DTSTAMP:20260425T170928Z
URL:https://business.stmatthewschamber.com/events/details/photos-of-families-and-dogs-with-santa-12-02-2012-1314
END:VEVENT

END:VCALENDAR
