BEGIN:VCALENDAR
VERSION:2.0
PRODID:-//ChamberMaster//Event Calendar 2.0//EN
METHOD:PUBLISH
X-PUBLISHED-TTL:P3D
REFRESH-INTERVAL:P3D
CALSCALE:GREGORIAN
BEGIN:VEVENT
DTSTART:20121114T000000Z
DTEND:20121114T020000Z
X-MICROSOFT-CDO-ALLDAYEVENT:FALSE
SUMMARY:Pearson's Funeral Directors Sponsors Grief Seminar
DESCRIPTION:Heritage Hall at The Southern Baptist Theological Seminary in Louisville will be the location of a special workshop by Dr. Alan Wolfelt for community members. On Tuesday\, Nov. 13\, 2012\, 7 to 9 p.m.\, the topic will be "The Wilderness of Grief: Finding Your Way" for anyone in the community experiencing grief in their lives.  This workshop is made possible by Pearson's Funeral Directors and is at no cost to attendees.\n\n\n\nAbout Dr. Wolfelt\n\nDr. Alan Wolfelt\, a psychologist and grief counselor of international reputation\, will be the presenter of these programs. A past recipient of the Association for Death Education and Counseling's Death Educator Award\, Dr. Wolfelt is Director of the Center for Loss and Life Transition located in Fort Collins\, Colorado. He is known throughout the U.S. and Canada for his educational contributions in the areas of both childhood and adult grief. Among his publications are the books\, Understanding Your Grief: Ten Essential Touchstones for Finding Hope and Healing Your Heart\; Healing the Bereaved Child: Grief Gardening\; Healing a Spouse's Grieving Heart\; Creating Meaningful Funeral Ceremonies: A Guide for Caregivers\; Death and Grief: A Guide for Clergy\; Healing Your Grieving Heart: 100 Practical Ideas\; and When a Pet Dies. \n\n\n\nAbout Pearson's Funeral Directors\n\nStarted in 1848\, Pearson's Funeral Directors provides the community with professional funeral services Still locally owned and operated\, today's Pearson staff holdfast to the tradition of their forefathers while maintaining a beat on the ever-changing needs and desires of its community.\n\n\n\nThis is a reserved event\, so please contact Amanda Keith to reserve your spot.
X-ALT-DESC;FMTTYPE=text/html:<strong><span style="background-color: #fff0f5">Heritage Hall at The Southern Baptist Theological Seminary in Louisville will be the location of&nbsp\;a special workshop by Dr. Alan Wolfelt for community members. On </span><span style="background-color: #fff0f5">Tuesday\, Nov. 13\, 2012\, 7 to 9 p.m</span><span style="background-color: #fff0f5">.\, the topic will be</span><span style="background-color: #fff0f5"> &ldquo\;The Wilderness of Grief: Finding Your Way&rdquo\;</span><span style="background-color: #fff0f5"> for anyone in the community experiencing grief in their lives.&nbsp\; This workshop is&nbsp\;made possible by Pearson&rsquo\;s Funeral Directors and&nbsp\;is at no cost to attendees.</span></strong><br />\n<br />\n<strong>About Dr. Wolfelt</strong><br />\nDr. Alan Wolfelt\, a psychologist and grief counselor of international reputation\, will be the presenter of these programs. A past recipient of the Association for Death Education and Counseling&rsquo\;s Death Educator Award\, Dr. Wolfelt is Director of the Center for Loss and Life Transition located in Fort Collins\, Colorado. He is known throughout the U.S. and Canada for his educational contributions in the areas of both childhood and adult grief. Among his publications are the books\, <em>Understanding Your Grief: Ten Essential Touchstones for Finding Hope and Healing Your Heart\; Healing the Bereaved Child: Grief Gardening\; Healing a Spouse&rsquo\;s Grieving Heart\; Creating Meaningful Funeral Ceremonies: A Guide for Caregivers\; Death and Grief: A Guide for Clergy\; Healing Your Grieving Heart: 100 Practical Ideas\; and When a Pet Dies. </em><br />\n<br />\n<strong>About Pearson&rsquo\;s Funeral Directors</strong><br />\nStarted in 1848\, Pearson&#39\;s Funeral Directors provides the community with professional funeral services Still locally owned and operated\, today&rsquo\;s Pearson staff holdfast to the tradition of their forefathers while maintaining a beat on the ever-changing needs and desires of its community.<br />\n<br />\nThis is a reserved event\, so please contact Amanda Keith to reserve your spot.<br />\n
LOCATION:Heritage Hall at The Southern Baptist Theological Seminary\, 2825 Lexington Rd\, Louisville\, KY
UID:e.9037.1296
SEQUENCE:3
DTSTAMP:20260425T181639Z
URL:https://business.stmatthewschamber.com/events/details/pearson-s-funeral-directors-sponsors-grief-seminar-11-13-2012-1296
END:VEVENT

END:VCALENDAR
