BEGIN:VCALENDAR
VERSION:2.0
PRODID:-//ChamberMaster//Event Calendar 2.0//EN
METHOD:PUBLISH
X-PUBLISHED-TTL:P3D
REFRESH-INTERVAL:P3D
CALSCALE:GREGORIAN
BEGIN:VEVENT
DTSTART:20120613T120000Z
DTEND:20120613T140000Z
X-MICROSOFT-CDO-ALLDAYEVENT:FALSE
SUMMARY:Operation Carpe Diem: Calendar Control
DESCRIPTION:Take control of your calendar!  Strategies and concepts your can apply to your daily work life that will help you balance full plates.  Learn the difference between action and activity and which helps your business grow!  This is all the stuff they don't teach you in textbooks.  Investment per participant is $20.
X-ALT-DESC;FMTTYPE=text/html:<p style="margin:0in\;font-family:Calibri\;font-size:11.0pt">\n	Take control of your calendar!&nbsp\; Strategies and concepts your can apply to your daily work life that will help you balance full plates.&nbsp\; Learn the difference between action and activity and which helps your business grow!&nbsp\; This is all the stuff they don&#39\;t teach you in textbooks.&nbsp\; Investment per participant is $20.</p>\n
LOCATION:Forcht Bank: 10505 Taylorsville Road Louisville\, KY 40299-3911
UID:e.9037.1072
SEQUENCE:3
DTSTAMP:20260424T134001Z
URL:https://business.stmatthewschamber.com/events/details/operation-carpe-diem-calendar-control-06-13-2012-1072
END:VEVENT

END:VCALENDAR
