BEGIN:VCALENDAR
VERSION:2.0
PRODID:-//ChamberMaster//Event Calendar 2.0//EN
METHOD:PUBLISH
X-PUBLISHED-TTL:P3D
REFRESH-INTERVAL:P3D
CALSCALE:GREGORIAN
BEGIN:VEVENT
DTSTART:20140209T150000Z
DTEND:20140209T161500Z
X-MICROSOFT-CDO-ALLDAYEVENT:FALSE
SUMMARY:Opening Service at Hope Culture Church
DESCRIPTION:We wondered if there was a different way to do church. So\, we began to dream and make plans to start a new church in Louisville\, Hope Culture Church. After all\, we could all use a little more hope in our lives...\n\n	\n\n	We believe church should be an enjoyable experience that speaks to real life issues. That's why we design each weekend with you in mind. It is a casual and comfortable environment where you can relax and be yourself. \n\n	 \n\n	Every weekend we offer creative and exciting programs for children from birth to 5th grade. Our awesome kid's team teach biblical values that will help your children build a strong foundation for their faith to grow on.\n\n	 \n\n	Regardless of where you currently are in your spiritual journey\, may you realize that there is always hope! \n\n	\n\n	Our first service is Sunday\, February 9\, 2014\, 10:00am\, in Event Room #2 at the Mellwood Art Center.
X-ALT-DESC;FMTTYPE=text/html:<div>\n	<span style="font-family:verdana\;">We wondered if there was a <em>different</em> way to do church. So\, we began to dream and make plans to start a new church in Louisville\, <strong>Hope Culture Church</strong>. After all\, we could all use a little more <em>hope</em> in our lives...</span></div>\n<div>\n	<br />\n	<span style="font-family:verdana\;">We believe church should be an <strong>enjoyable experience</strong> that speaks to <strong>real life issues.</strong> That&rsquo\;s why we design each weekend with you in mind. It is a <strong>casual and comfortable environment</strong> where you can relax and be&nbsp\;</span><span style="font-family: verdana\;">yourself.&nbsp\;</span></div>\n<div>\n	&nbsp\;</div>\n<div>\n	<span style="font-family:verdana\;">Every weekend we offer <strong>creative and exciting programs for children</strong> from birth to 5th grade. Our awesome kid&rsquo\;s team teach biblical values that will help your children build a strong foundation for their faith to grow on.</span><br />\n	&nbsp\;</div>\n<div>\n	<span style="font-family:verdana\;">Regardless of where you currently are in your spiritual journey\, may you&nbsp\;</span><span style="font-family: verdana\;">realize that <strong>there is always hope!</strong>&nbsp\;</span></div>\n<div>\n	<br />\n	<span style="font-family:verdana\;">Our first service is <strong>Sunday\, February 9\, 2014\, 10:00am\, in&nbsp\;</strong></span><strong><span style="font-family: verdana\;">Event Room #2 at the Mellwood Art Center.&nbsp\;</span></strong></div>\n<div>\n	&nbsp\;</div>\n<div>\n	&nbsp\;</div>\n<div>\n	&nbsp\;</div>\n<div>\n	&nbsp\;</div>\n<div>\n	&nbsp\;</div>\n<div>\n	&nbsp\;</div>\n<div>\n	&nbsp\;</div>\n<div>\n	&nbsp\;</div>\n
LOCATION:1860 Mellwood Avenue Event Room #2
UID:e.9037.1635
SEQUENCE:3
DTSTAMP:20260425T235748Z
URL:https://business.stmatthewschamber.com/events/details/opening-service-at-hope-culture-church-02-09-2014-1635
END:VEVENT

END:VCALENDAR
