BEGIN:VCALENDAR
VERSION:2.0
PRODID:-//ChamberMaster//Event Calendar 2.0//EN
METHOD:PUBLISH
X-PUBLISHED-TTL:P3D
REFRESH-INTERVAL:P3D
CALSCALE:GREGORIAN
BEGIN:VEVENT
DTSTART:20120426T210000Z
DTEND:20120426T230000Z
X-MICROSOFT-CDO-ALLDAYEVENT:FALSE
SUMMARY:Open House and Ribbon Cutting
DESCRIPTION:Open House and ribbon cutting. Come and meet our new Executive Director and see our new program space.  Food provided by Bravo!
X-ALT-DESC;FMTTYPE=text/html:<span style="font-size: 14px"><strong>Open House and ribbon cutting. </strong></span>Come and meet our new Executive Director and see our new program space.&nbsp\; Food provided by Bravo! 
LOCATION:SeniorCare Experts\, 145 Thierman Lane\, 40207
UID:e.9037.1062
SEQUENCE:3
DTSTAMP:20260424T152503Z
URL:https://business.stmatthewschamber.com/events/details/open-house-and-ribbon-cutting-04-26-2012-1062
END:VEVENT

END:VCALENDAR
