BEGIN:VCALENDAR
VERSION:2.0
PRODID:-//ChamberMaster//Event Calendar 2.0//EN
METHOD:PUBLISH
X-PUBLISHED-TTL:P3D
REFRESH-INTERVAL:P3D
CALSCALE:GREGORIAN
BEGIN:VEVENT
DTSTART;VALUE=DATE:20131129
DTEND;VALUE=DATE:20140106
TRANSP:TRANSPARENT
X-MICROSOFT-CDO-ALLDAYEVENT:TRUE
SUMMARY:Once Upon a Holiday exhibit
DESCRIPTION:Initially\, most of us likely connect the holidays with Christmas trees\, wreaths\, and mistletoe. But\, in some cultures\, Dragon Dances\, Eid and Diwali are symbols of what bring life to the season. ?Once Upon a Holiday? is a festive exhibit that showcases holidays around the world via life-size storybook pages and teaches visitors how various cultures celebrate the season.
X-ALT-DESC;FMTTYPE=text/html:Initially\, most of us likely connect the holidays with Christmas trees\, wreaths\, and mistletoe. But\, in some cultures\, Dragon Dances\, Eid and Diwali are symbols of what bring life to the season. ?Once Upon a Holiday? is a festive exhibit that showcases holidays around the world via life-size storybook pages and teaches visitors how various cultures celebrate the season.
LOCATION:Muhammad Ali Center 144 N. Sixth Street Louisville\, KY 40202
UID:e.9037.1636
SEQUENCE:3
DTSTAMP:20260425T203444Z
URL:https://business.stmatthewschamber.com/events/details/once-upon-a-holiday-exhibit-11-29-2013-1636
END:VEVENT

END:VCALENDAR
