BEGIN:VCALENDAR
VERSION:2.0
PRODID:-//ChamberMaster//Event Calendar 2.0//EN
METHOD:PUBLISH
X-PUBLISHED-TTL:P3D
REFRESH-INTERVAL:P3D
CALSCALE:GREGORIAN
BEGIN:VEVENT
DTSTART;VALUE=DATE:20130921
DTEND;VALUE=DATE:20131007
TRANSP:TRANSPARENT
X-MICROSOFT-CDO-ALLDAYEVENT:TRUE
SUMMARY:Oktoberfest at Drakes
DESCRIPTION:Come to Drakes and celebrate Oktoberfest\, September 21 thru October 6! Enjoy the German style food and seasonal beers! We will be offering a specialty menu again this year including Beer Brats\, Soft Pretzels and Bavarian Slaw Burgers.\n\n	Get a 22oz souvenir Oktoberfest stein featuring Sam Adams Octoberfest for just $10. Bring the stein back anytime before October 6 and get $1 off a refill!\n\n	Each location will offer different seasonal beers as well as seasonal Tap Nites during the celebration\, so check out your local Drakes on Facebook to see what the beer selection will be!
X-ALT-DESC;FMTTYPE=text/html:<p>\n	Come to Drakes and celebrate <strong>Oktoberfest\, September 21 thru October 6</strong>! Enjoy the German style&nbsp\;food and seasonal beers! We will be offering a specialty menu again this year&nbsp\;including Beer Brats\, Soft Pretzels and Bavarian Slaw Burgers.</p>\n<p>\n	Get a 22oz souvenir Oktoberfest stein featuring Sam Adams Octoberfest for just $10. Bring the stein back anytime before October 6 and get $1 off a refill!</p>\n<p>\n	Each location will offer different seasonal beers as well as seasonal Tap Nites during the celebration\, so check out your local Drakes on Facebook to see what&nbsp\;the beer selection&nbsp\;will be!</p>\n
LOCATION:Drakes at St. Matthews
UID:e.9037.1612
SEQUENCE:3
DTSTAMP:20260425T181011Z
URL:https://business.stmatthewschamber.com/events/details/oktoberfest-at-drakes-09-21-2013-1612
END:VEVENT

END:VCALENDAR
