BEGIN:VCALENDAR
VERSION:2.0
PRODID:-//ChamberMaster//Event Calendar 2.0//EN
METHOD:PUBLISH
X-PUBLISHED-TTL:P3D
REFRESH-INTERVAL:P3D
CALSCALE:GREGORIAN
BEGIN:VEVENT
DTSTART:20131016T153000Z
DTEND:20131016T170000Z
X-MICROSOFT-CDO-ALLDAYEVENT:FALSE
SUMMARY:October Business Luncheon
DESCRIPTION:October Guest Speaker: DONNA M. HARGENS\n\n \n\nDonna M. Hargens is the Superintendent of the Jefferson County Public Schools in Louisville\, Kentucky\, having been selected for that position effective August 2011. Prior to her appointment\, she served the Wake County Public School System in Raleigh\, North Carolina for 22 years in a variety of positionsm that included Chief Academic Officer\, Interim Superintendent\, Assistant Superintendent for Curriculum and Instruction\, Area Superintendent\, and principal of two high schools.\n\n \n\nAmong her educational qualifications are graduating summa cum laude with a B.A. from Marquette University (WI)\, earning an M.Ed. in educational administration and supervision from University of North Carolina - Chapel Hill\, and being awarded an Ed.D. in educational leadership\, management and policy from Seton Hall University (NJ).\n\n \n\nA native of Milwaukee\, Wisconsin\, Dr. Hargens began her career as a teacher of Spanish and English. Married\, with two adult children\, she is a voracious reader and a proponent of physical fitness.\n\n \n\nAs superintendent of JCPS\, Dr. Hargens' focus is on raising student achievement for all children\, and she is relentless in expecting staff to collect and analyze data in order to inform their decisions. Her leadership style is grounded in collaboration\,and she devotes extensive time to listening to staff\, parents\, and community to gain their perspectives and insights before making recommendations that will impact the operation of the district and the performance of its students.
X-ALT-DESC;FMTTYPE=text/html:October Guest Speaker: DONNA M. HARGENS<br />\n&nbsp\;<br />\nDonna M. Hargens is the Superintendent of the Jefferson County Public Schools in Louisville\, Kentucky\, having been selected for that position effective August 2011. Prior to her appointment\, she served the Wake County Public School System in Raleigh\, North Carolina for 22 years in a variety of positionsm that included Chief Academic Officer\, Interim Superintendent\, Assistant Superintendent for Curriculum and Instruction\, Area Superintendent\, and principal of two high schools.<br />\n&nbsp\;<br />\nAmong her educational qualifications are graduating summa cum laude with a B.A. from Marquette University (WI)\, earning an M.Ed. in educational administration and supervision from University of North Carolina - Chapel Hill\, and being awarded an Ed.D. in educational leadership\, management and policy from Seton Hall University (NJ).<br />\n&nbsp\;<br />\nA native of Milwaukee\, Wisconsin\, Dr. Hargens began her career as a teacher of Spanish and English. Married\, with two adult children\, she is a voracious reader and a proponent of physical fitness.<br />\n&nbsp\;<br />\nAs superintendent of JCPS\, Dr. Hargens&rsquo\; focus is on raising student achievement for all children\, and she is relentless in expecting staff to collect and analyze data in order to inform their decisions. Her leadership style is grounded in collaboration\,and she devotes extensive time to listening to staff\, parents\, and community to gain their perspectives and insights before making recommendations that will impact the operation of the district and the performance of its students.
LOCATION:The Olmsted 3701 Frankfort Ave\, Louisville\, KY 40206
UID:e.9037.1384
SEQUENCE:3
DTSTAMP:20260421T084812Z
URL:https://business.stmatthewschamber.com/events/details/october-business-luncheon-10-16-2013-1384
END:VEVENT

END:VCALENDAR
