BEGIN:VCALENDAR
VERSION:2.0
PRODID:-//ChamberMaster//Event Calendar 2.0//EN
METHOD:PUBLISH
X-PUBLISHED-TTL:P3D
REFRESH-INTERVAL:P3D
CALSCALE:GREGORIAN
BEGIN:VEVENT
DTSTART:20121017T113000Z
DTEND:20121017T130000Z
X-MICROSOFT-CDO-ALLDAYEVENT:FALSE
SUMMARY:October Business Breakfast
DESCRIPTION:Rick Bozich is thrilled to be a part of the October Business Breakfast! He covers college and high school sports in the Kentuckiana and currently commentates on WDRB. His initial  career goals were to be a starting pitcher for the Chicago White Sox or the Lakers point guard\, but writing and  talking about sports haven't been as hard on his knees nor his rotator cuff.\n\n\n\nHe came to the Courier-Journal in 1978 and has been sold on Kentuckiana ever since. Since then he has covered 31 of the last 32 NCAA Final Fours\, 15 Super Bowls\, 11 World    Series\, 3 Summer Olympics and 1 NBA Finals. He has been voted into the US Basketball Writers Association Hall of Fame in 2009 and currently serves as the state chairman for the John Wooden College Basketball Player of the Year Award. And he was a college basketball correspondent for Sports Illustrated for over 20 years having also in that time written for The New York Times\, The Sporting News\, Alton Yearbooks and FoxSports.com.
X-ALT-DESC;FMTTYPE=text/html:<span style="font-size:12px\;"><span style="font-family: arial\;"><span style="font-weight: bold\;">Rick Bozich is thrilled to be a part of the October Business Breakfast! He covers college and high school sports in the Kentuckiana and currently commentates on WDRB. His initial&nbsp\; career goals were to be a starting pitcher for the Chicago White Sox or the Lakers point guard\, but writing and&nbsp\; talking about sports haven&rsquo\;t been as hard on his knees nor his rotator cuff.<br />\n</span><br />\n<span style="font-weight: bold\;">He came to the Courier-Journal in 1978 and has been sold on Kentuckiana ever since. Since then he has covered 31 of the last 32 NCAA Final Fours\, 15 Super Bowls\, 11 World&nbsp\;&nbsp\;&nbsp\; Series\, 3 Summer Olympics and 1 NBA Finals. He has been voted into the US Basketball Writers Association Hall of Fame in 2009 and currently serves as the state chairman for the John Wooden College Basketball Player of the Year Award. And he was a college basketball correspondent for Sports Illustrated for over 20 years having also in that time written for The New York Times\, The Sporting News\, Alton Yearbooks and FoxSports.com.</span></span></span>
LOCATION:St. Matthews Community Center 310 Ten Pin Lane
UID:e.9037.968
SEQUENCE:3
DTSTAMP:20260422T042728Z
URL:https://business.stmatthewschamber.com/events/details/october-business-breakfast-10-17-2012-968
END:VEVENT

END:VCALENDAR
