BEGIN:VCALENDAR
VERSION:2.0
PRODID:-//ChamberMaster//Event Calendar 2.0//EN
METHOD:PUBLISH
X-PUBLISHED-TTL:P3D
REFRESH-INTERVAL:P3D
CALSCALE:GREGORIAN
BEGIN:VEVENT
DTSTART:20130917T150000Z
DTEND:20130917T160000Z
X-MICROSOFT-CDO-ALLDAYEVENT:FALSE
SUMMARY:O'Charley's Re-Grand Opening Ribbon Cutting Event
DESCRIPTION:All Chamber Members welcome.
X-ALT-DESC;FMTTYPE=text/html:All Chamber Members welcome.&nbsp\; 
LOCATION:962 Breckenridge Lane
UID:e.9037.1604
SEQUENCE:3
DTSTAMP:20260425T181157Z
URL:https://business.stmatthewschamber.com/events/details/o-charley-s-re-grand-opening-ribbon-cutting-event-09-17-2013-1604
END:VEVENT

END:VCALENDAR
