BEGIN:VCALENDAR
VERSION:2.0
PRODID:-//ChamberMaster//Event Calendar 2.0//EN
METHOD:PUBLISH
X-PUBLISHED-TTL:P3D
REFRESH-INTERVAL:P3D
CALSCALE:GREGORIAN
BEGIN:VEVENT
DTSTART;VALUE=DATE:20130914
DTEND;VALUE=DATE:20130915
TRANSP:TRANSPARENT
X-MICROSOFT-CDO-ALLDAYEVENT:TRUE
SUMMARY:O'Charley's Re-Grand Opening
DESCRIPTION:Come see our new look starting at 11am!  The first 50 guests get a free $9.99 meal!
X-ALT-DESC;FMTTYPE=text/html:Come see our new look starting at 11am!&nbsp\; The first 50 guests get a free $9.99 meal!
LOCATION:962 Breckenridge Lane
UID:e.9037.1603
SEQUENCE:3
DTSTAMP:20260425T181052Z
URL:https://business.stmatthewschamber.com/events/details/o-charley-s-re-grand-opening-09-14-2013-1603
END:VEVENT

END:VCALENDAR
