BEGIN:VCALENDAR
VERSION:2.0
PRODID:-//ChamberMaster//Event Calendar 2.0//EN
METHOD:PUBLISH
X-PUBLISHED-TTL:P3D
REFRESH-INTERVAL:P3D
CALSCALE:GREGORIAN
BEGIN:VEVENT
DTSTART:20121114T163000Z
DTEND:20121114T180000Z
X-MICROSOFT-CDO-ALLDAYEVENT:FALSE
SUMMARY:November Business Luncheon
DESCRIPTION:a.      Making a list and checking it twice are smart moves for any professional. But we can learn a bundle more from Santa Claus in all seasons.\n\n                Cindy Kanning\, consultant in corporate communications and management\, will deliver a light-hearted but powerful look at management and leadership peppered with spirit to last all year. Practical gifts of encouragement plus skills to make a difference at work and home are instant takeaways.\n\n                Make your reservations now for lunch before the Christmas rush. In fact\, bring all the elves in your workshop. Parking is free for reindeer.\n\n\n\nThis meeting will be held November 14th\, please mark your calendars that this is a date change due to Thanksgiving. Thank you.
X-ALT-DESC;FMTTYPE=text/html:a.&nbsp\;&nbsp\;&nbsp\;&nbsp\;&nbsp\; Making a list and checking it twice are smart moves for any professional. But we can learn a bundle more from Santa Claus in all seasons.<br />\n&nbsp\;&nbsp\;&nbsp\;&nbsp\;&nbsp\;&nbsp\;&nbsp\;&nbsp\;&nbsp\;&nbsp\;&nbsp\;&nbsp\;&nbsp\;&nbsp\;&nbsp\; Cindy Kanning\, consultant in corporate communications and management\, will deliver a light-hearted but powerful look at management and leadership peppered with spirit to last all year. Practical gifts of encouragement plus skills to make a difference at work and home are instant takeaways.<br />\n&nbsp\;&nbsp\;&nbsp\;&nbsp\;&nbsp\;&nbsp\;&nbsp\;&nbsp\;&nbsp\;&nbsp\;&nbsp\;&nbsp\;&nbsp\;&nbsp\;&nbsp\; Make your reservations now for lunch before the Christmas rush. In fact\, bring all the elves in your workshop. Parking is free for reindeer.<br />\n<br />\n<strong>This meeting will be held November 14<sup>th</sup>\, please mark your calendars that this is a date change due to Thanksgiving. Thank you.</strong>
LOCATION:310 Ten Pin Lane
UID:e.9037.1026
SEQUENCE:3
DTSTAMP:20260422T025619Z
URL:https://business.stmatthewschamber.com/events/details/november-business-luncheon-11-14-2012-1026
END:VEVENT

END:VCALENDAR
