BEGIN:VCALENDAR
VERSION:2.0
PRODID:-//ChamberMaster//Event Calendar 2.0//EN
METHOD:PUBLISH
X-PUBLISHED-TTL:P3D
REFRESH-INTERVAL:P3D
CALSCALE:GREGORIAN
BEGIN:VEVENT
DTSTART:20130409T140000Z
DTEND:20130409T160000Z
X-MICROSOFT-CDO-ALLDAYEVENT:FALSE
SUMMARY:New Mommy 101
DESCRIPTION:Join new moms\, babies and moms-to-be\; get tips on\n\nparenting\, keeping your baby healthy and breastfeeding.
X-ALT-DESC;FMTTYPE=text/html:Join new moms\, babies and moms-to-be\; get tips on<br />\nparenting\, keeping your baby healthy and breastfeeding.
LOCATION:Marshall Women's Health & Education Center\, Norton Medical Plaza III Suburban\, Suite 108
UID:e.9037.1435
SEQUENCE:3
DTSTAMP:20260425T121131Z
URL:https://business.stmatthewschamber.com/events/details/new-mommy-101-04-09-2013-1435
END:VEVENT

END:VCALENDAR
