BEGIN:VCALENDAR
VERSION:2.0
PRODID:-//ChamberMaster//Event Calendar 2.0//EN
METHOD:PUBLISH
X-PUBLISHED-TTL:P3D
REFRESH-INTERVAL:P3D
CALSCALE:GREGORIAN
BEGIN:VEVENT
DTSTART:20131009T200000Z
DTEND:20131009T220000Z
X-MICROSOFT-CDO-ALLDAYEVENT:FALSE
SUMMARY:New Member Orientation
DESCRIPTION:Welcome to the St. Matthews Area Chamber of Commerce! You've made the smart move for your business by joining the area's fourth largest Chamber. Now that you are a SMACC member\, it's time to learn more about the value the Chamber has to offer you and your business. Please join us for our New Member Orientation and Networking.
X-ALT-DESC;FMTTYPE=text/html:Welcome to the St. Matthews Area Chamber of Commerce! You&#39\;ve made the smart move for your business by joining the area&#39\;s fourth largest Chamber. Now that you are a SMACC&nbsp\;member\, it&#39\;s time to learn more about the value the Chamber has to offer you and your business. Please join us for our New Member Orientation and Networking.
LOCATION:
UID:e.9037.1597
SEQUENCE:3
DTSTAMP:20260421T090949Z
URL:https://business.stmatthewschamber.com/events/details/new-member-orientation-10-09-2013-1597
END:VEVENT

END:VCALENDAR
