BEGIN:VCALENDAR
VERSION:2.0
PRODID:-//ChamberMaster//Event Calendar 2.0//EN
METHOD:PUBLISH
X-PUBLISHED-TTL:P3D
REFRESH-INTERVAL:P3D
CALSCALE:GREGORIAN
BEGIN:VEVENT
DTSTART:20110830T130000Z
DTEND:20110830T140000Z
X-MICROSOFT-CDO-ALLDAYEVENT:FALSE
SUMMARY:New Member Orientation
DESCRIPTION:Join us for SMABA Member Orientation. Join Executive Director\, Sherry Mulkins\, for everything you ever wanted to know about SMABA and then some. The Orientation is held every six weeks and alternate times either 9:00 am or noon. RSVP is required as seating is limited.\n\n\n\nJoin us today to get Involved and watch your business start to Evolve!\n\n\n\nRSVP to laura@smaba.org.
X-ALT-DESC;FMTTYPE=text/html:Join us for SMABA Member Orientation. Join Executive Director\, Sherry Mulkins\, for everything you ever wanted to know about SMABA and then some. The Orientation is held every six weeks and alternate times either 9:00 am or noon. RSVP is required as seating is limited.<br />\n<br />\nJoin us today to get Involved and watch your business start to Evolve!<br />\n<br />\nRSVP&nbsp\;to <a href="mailto:laura@smaba.org">laura@smaba.org</a>. 
LOCATION:St. Matthews Area Business Association 3940 Grandview Ave.\, Suite 216 Post Office Box 7973 Louisville\, KY 40257-0973
UID:e.9037.16
SEQUENCE:3
DTSTAMP:20260425T001132Z
URL:https://business.stmatthewschamber.com/events/details/new-member-orientation-08-30-2011-16
END:VEVENT

END:VCALENDAR
