BEGIN:VCALENDAR
VERSION:2.0
PRODID:-//ChamberMaster//Event Calendar 2.0//EN
METHOD:PUBLISH
X-PUBLISHED-TTL:P3D
REFRESH-INTERVAL:P3D
CALSCALE:GREGORIAN
BEGIN:VEVENT
DTSTART:20130912T160000Z
DTEND:20130912T170000Z
X-MICROSOFT-CDO-ALLDAYEVENT:FALSE
SUMMARY:Networking at Noon
DESCRIPTION:Location moved to Eclipse bank this month only. Parking is in Gerstle's lot only!
X-ALT-DESC;FMTTYPE=text/html:Location moved to Eclipse bank this month only. Parking is in Gerstle&#39\;s lot only! 
LOCATION:Eclipse Bank 3827 Shelbyville Road Louisville\, KY 40207
UID:e.9037.1377
SEQUENCE:3
DTSTAMP:20260421T103319Z
URL:https://business.stmatthewschamber.com/events/details/networking-at-noon-09-12-2013-1377
END:VEVENT

END:VCALENDAR
