BEGIN:VCALENDAR
VERSION:2.0
PRODID:-//ChamberMaster//Event Calendar 2.0//EN
METHOD:PUBLISH
X-PUBLISHED-TTL:P3D
REFRESH-INTERVAL:P3D
CALSCALE:GREGORIAN
BEGIN:VEVENT
DTSTART:20120816T160000Z
DTEND:20120816T170000Z
X-MICROSOFT-CDO-ALLDAYEVENT:FALSE
SUMMARY:Networking at Noon
DESCRIPTION:No cost\, bring your lunch and we provide the drinks. This is a One-Hour Networking Blitz held on the second Thursday of the month at the Chamber office\, third floor conference room. You will meet 10 other professionals (only one of each type of business). Each has five minutes to describe your business\, exchange cards\, share referrals and make that Chamber connection. This will be one of the most productive one hours you've ever had. Make your connection today as spaces fill up quickly. RSVP required.
X-ALT-DESC;FMTTYPE=text/html:No cost\, bring your lunch and we provide the drinks. This is a One-Hour Networking Blitz held on the second Thursday of the month at the Chamber office\, third floor conference room. You will meet 10 other professionals (only one of each type of business). Each has five minutes to describe your business\, exchange cards\, share referrals and make that Chamber connection. This will be one of the most productive one hours you&#39\;ve ever had. Make your connection today as spaces fill up quickly. RSVP required.
LOCATION:St. Matthews Area Chamber of Commerce 3940 Grandview Ave.\, Suite 216 Post Office Box 7973 Louisville\, KY 40257-0973
UID:e.9037.55
SEQUENCE:3
DTSTAMP:20260422T074743Z
URL:https://business.stmatthewschamber.com/events/details/networking-at-noon-08-16-2012-55
END:VEVENT

END:VCALENDAR
