BEGIN:VCALENDAR
VERSION:2.0
PRODID:-//ChamberMaster//Event Calendar 2.0//EN
METHOD:PUBLISH
X-PUBLISHED-TTL:P3D
REFRESH-INTERVAL:P3D
CALSCALE:GREGORIAN
BEGIN:VEVENT
DTSTART:20130808T160000Z
DTEND:20130808T170000Z
X-MICROSOFT-CDO-ALLDAYEVENT:FALSE
SUMMARY:Networking at Noon
DESCRIPTION:No cost\, bring your lunch and we provide the drinks. It is a members only event. This is a One-Hour Networking Blitz held on the second Thursday of each month at The Chamber 3rd floor conference room. \n\n\n\nNetworking at Noon allows you to meet and hear about members' backgrounds and businesses. It is limited to 10-12 people in different industries. This is a wonderful opportunity to enjoy a friendly and intimate setting and walk away with knowledge of an hour well spent. Each has five minutes to describe your business\, exchange cards\, share referrals and make that Chamber connection. This will be one of the most productive hours you've ever had. \n\n\n\nMake your connection today as spaces fill up quickly! RSVP required.
X-ALT-DESC;FMTTYPE=text/html:<span style="color: rgb(0\, 0\, 0)\; font-family: Verdana\, Geneva\, Arial\, Helvetica\, sans-serif\; font-size: 13px\;">No cost\, bring your lunch and we provide the drinks. It is a members only event. This is a One-Hour Networking Blitz held on the second Thursday of each month at The Chamber 3rd floor conference room.&nbsp\;</span><br style="color: rgb(0\, 0\, 0)\; font-family: Verdana\, Geneva\, Arial\, Helvetica\, sans-serif\; font-size: 13px\;" />\n<br style="color: rgb(0\, 0\, 0)\; font-family: Verdana\, Geneva\, Arial\, Helvetica\, sans-serif\; font-size: 13px\;" />\n<span style="color: rgb(0\, 0\, 0)\; font-family: Verdana\, Geneva\, Arial\, Helvetica\, sans-serif\; font-size: 13px\;">Networking at Noon allows you to meet and hear about members&#39\; backgrounds and businesses. It is limited to 10-12 people in different industries. This is a wonderful opportunity to enjoy a friendly and intimate setting and walk away with knowledge of an hour well spent. Each has five minutes to describe your business\, exchange cards\, share referrals and make that Chamber connection. This will be one of the most productive hours you&#39\;ve ever had.&nbsp\;</span><br style="color: rgb(0\, 0\, 0)\; font-family: Verdana\, Geneva\, Arial\, Helvetica\, sans-serif\; font-size: 13px\;" />\n<br style="color: rgb(0\, 0\, 0)\; font-family: Verdana\, Geneva\, Arial\, Helvetica\, sans-serif\; font-size: 13px\;" />\n<span style="color: rgb(0\, 0\, 0)\; font-family: Verdana\, Geneva\, Arial\, Helvetica\, sans-serif\; font-size: 13px\;">Make your connection today as spaces fill up quickly!&nbsp\;</span><strong style="color: rgb(0\, 0\, 0)\; font-family: Verdana\, Geneva\, Arial\, Helvetica\, sans-serif\; font-size: 13px\;">RSVP required.</strong>
LOCATION:3940 Grandview Avenue Suite 216 Louisville\, KY 40207
UID:e.9037.1367
SEQUENCE:3
DTSTAMP:20260421T140330Z
URL:https://business.stmatthewschamber.com/events/details/networking-at-noon-08-08-2013-1367
END:VEVENT

END:VCALENDAR
