BEGIN:VCALENDAR
VERSION:2.0
PRODID:-//ChamberMaster//Event Calendar 2.0//EN
METHOD:PUBLISH
X-PUBLISHED-TTL:P3D
REFRESH-INTERVAL:P3D
CALSCALE:GREGORIAN
BEGIN:VEVENT
DTSTART:20130314T160000Z
DTEND:20130314T170000Z
X-MICROSOFT-CDO-ALLDAYEVENT:FALSE
SUMMARY:Networking at Noon
DESCRIPTION:Priceless!\n\n	 \n\n\nNo cost\, bring your lunch and we provide the drinks members only networking event. This is a One-Hour Networking Blitz held on the second Thursday of each month at The Chamber 3rd floor conference room. Networking at Noon allows you to meet and hear about other members' backgrounds and businesses. Limited to 10-12 people in different industries\, this is a wonderful opportunity to enjoy a friendly and intimate setting and walk away with knowledge of an hour well spent. Each has five minutes to describe your business\, exchange cards\, share referrals and make that Chamber connection. This will be one of the most productive hours you've ever had. Make your connection today as spaces fill up quickly. RSVP required.
X-ALT-DESC;FMTTYPE=text/html:<p>\n	<strong>Priceless!</strong></p>\n<p>\n	&nbsp\;</p>\n<br />\nNo cost\, bring your lunch and we provide the drinks members only networking event. This is a One-Hour Networking Blitz held on the&nbsp\;second Thursday&nbsp\;of each month at The Chamber 3rd floor conference room. Networking at Noon allows you to meet and hear about other members&rsquo\; backgrounds and businesses. Limited to 10-12 people in different industries\, this is a wonderful opportunity to enjoy a friendly and intimate setting and walk away with knowledge of an hour well spent. Each has five minutes to describe your business\, exchange cards\, share referrals and make that Chamber connection. This will be one of the most productive hours you&rsquo\;ve ever had. Make your connection today as spaces fill up quickly. RSVP required.
LOCATION:3940 Grandview Avenue 3rd Floor - Conference Room
UID:e.9037.1334
SEQUENCE:3
DTSTAMP:20260421T223103Z
URL:https://business.stmatthewschamber.com/events/details/networking-at-noon-03-14-2013-1334
END:VEVENT

END:VCALENDAR
