BEGIN:VCALENDAR
VERSION:2.0
PRODID:-//ChamberMaster//Event Calendar 2.0//EN
METHOD:PUBLISH
X-PUBLISHED-TTL:P3D
REFRESH-INTERVAL:P3D
CALSCALE:GREGORIAN
BEGIN:VEVENT
DTSTART:20140220T170000Z
DTEND:20140220T180000Z
X-MICROSOFT-CDO-ALLDAYEVENT:FALSE
SUMMARY:Networking at Noon
DESCRIPTION:Due to high demand this month\, this will be the second Networking at Noon held in February.\n\n\n\nThis is a free one-hour networking session between you and 12 or so  other business members. This is a Chamber member only event. Each person has five minutes to tell the room about who they are and about their business. Bring your lunch if you wish and we will provide refreshments. See you there!
X-ALT-DESC;FMTTYPE=text/html:Due to high demand this month\, this will be the second Networking at Noon held in February.<br />\n<br />\nThis is a free one-hour networking session between you and 12 or so&nbsp\; other business members. This is a Chamber member only event. Each person has five minutes to tell the room about who they are and about their business. Bring your lunch if you wish and we will provide refreshments. See you there!
LOCATION:Chamber building\, third floor conference room. 3940 Grandview Ave Louisville\, KY 40207
UID:e.9037.1708
SEQUENCE:3
DTSTAMP:20260425T235437Z
URL:https://business.stmatthewschamber.com/events/details/networking-at-noon-02-20-2014-1708
END:VEVENT

END:VCALENDAR
