BEGIN:VCALENDAR
VERSION:2.0
PRODID:-//ChamberMaster//Event Calendar 2.0//EN
METHOD:PUBLISH
X-PUBLISHED-TTL:P3D
REFRESH-INTERVAL:P3D
CALSCALE:GREGORIAN
BEGIN:VEVENT
DTSTART:20120209T170000Z
DTEND:20120209T180000Z
X-MICROSOFT-CDO-ALLDAYEVENT:FALSE
SUMMARY:Networking at Noon
DESCRIPTION:No cost\, bring your lunch and we'll provide the drinks!\n\n\n\nThis is a One-Hour Networking Blitz held on the second Thursday of the month at the Chamber office. You will meet 10 other professionals (only one of each type of businss). Each has five minutes to describe your business\, exchange cards\, share referrals and make that Chamber connection.\n\n\n\nThis will be one of the most productive One-Hours you've ever had!\n\n\n\nMake your connection today as spaces fill up quickly.\n\n\n	RSVP Required.
X-ALT-DESC;FMTTYPE=text/html:No cost\, bring your lunch and we&#39\;ll provide the drinks!<br />\n<br />\nThis is a One-Hour Networking Blitz held on the second Thursday of the month at the Chamber office. You will meet 10 other professionals (only one of each type of businss). Each has five minutes to describe your business\, exchange cards\, share referrals and make that Chamber connection.<br />\n<br />\nThis will be one of the most productive One-Hours you&#39\;ve ever had!<br />\n<br />\nMake your connection today as spaces fill up quickly.<br />\n<p style="text-align: center\;">\n	<span style="font-size:20px\;"><strong><span style="color: rgb(255\, 0\, 0)\;">RSVP Required.</span></strong></span></p>\n
LOCATION:St. Matthews Area Chamber of Commerce 3940 Grandview Avenue\, Suite 216 Louisville\, KY 40207
UID:e.9037.49
SEQUENCE:3
DTSTAMP:20260424T155156Z
URL:https://business.stmatthewschamber.com/events/details/networking-at-noon-02-09-2012-49
END:VEVENT

END:VCALENDAR
