BEGIN:VCALENDAR
VERSION:2.0
PRODID:-//ChamberMaster//Event Calendar 2.0//EN
METHOD:PUBLISH
X-PUBLISHED-TTL:P3D
REFRESH-INTERVAL:P3D
CALSCALE:GREGORIAN
BEGIN:VEVENT
DTSTART:20130110T170000Z
DTEND:20130110T180000Z
X-MICROSOFT-CDO-ALLDAYEVENT:FALSE
SUMMARY:Networking at Noon
DESCRIPTION:Priceless!\n\nNo cost\, bring your lunch and we provide the drinks. This is a One-Hour Networking Blitz held on the second Thursday of each month at The Chamber 3rd floor conference room. Networking at Noon allows you to meet and hear about other members' backgrounds and businesses. Limited to 10-12 people in different industries\, this is a wonderful opportunity to enjoy a friendly and intimate setting and walk away with knowledge of an hour well spent. Each has five minutes to describe your business\, exchange cards\, share referrals and make that Chamber connection. This will be one of the most productive hours you've ever had. Make your connection today as spaces fill up quickly. RSVP required.\n\n\n\nMember Testimonial - "I am here to tell you there is a lunch that pays for itself   Networking at Noon. On my first experience\, I met a salon and spa manager\, a printer\, a realtor\, an attorney\, an interior design manager\, the owner of a public relations business\, a banker\, an owner of a janitorial service business\, an owner of a handyman business\, an account representative from a payroll services business and a CPA. In a world of "not what you know but whom you know\," Networking at Noon paid for itself and will continue to do so"\, says Becky Streif\, Pitney Bowes.
X-ALT-DESC;FMTTYPE=text/html:<strong>Priceless!</strong><br />\nNo cost\, bring your lunch and we provide the drinks. This is a One-Hour Networking Blitz held on the&nbsp\;second Thursday&nbsp\;of each month at The Chamber 3rd floor conference room. Networking at Noon allows you to meet and hear about other members&rsquo\; backgrounds and businesses. Limited to 10-12 people in different industries\, this is a wonderful opportunity to enjoy a friendly and intimate setting and walk away with knowledge of an hour well spent. Each has five minutes to describe your business\, exchange cards\, share referrals and make that Chamber connection. This will be one of the most productive hours you&rsquo\;ve ever had. Make your connection today as spaces fill up quickly. RSVP required.<br />\n<br />\nMember Testimonial - <em>&quot\;I am here to tell you there is a lunch that pays for itself &ndash\; Networking at Noon. On my first experience\, I met a salon and spa manager\, a printer\, a realtor\, an attorney\, an interior design manager\, the owner of a public relations business\, a banker\, an owner of a janitorial service business\, an owner of a handyman business\, an account representative from a payroll services business and a CPA. In a world of &ldquo\;not what you know but whom you know\,&rdquo\; Networking at Noon paid for itself and will continue to do so</em>&quot\;\, says Becky Streif\, Pitney Bowes.
LOCATION:The Chamber 3rd Floor Conference Room 3940 Grandview Avenue Louisville\, KY 40207
UID:e.9037.1321
SEQUENCE:3
DTSTAMP:20260422T000621Z
URL:https://business.stmatthewschamber.com/events/details/networking-at-noon-01-10-2013-1321
END:VEVENT

END:VCALENDAR
