BEGIN:VCALENDAR
VERSION:2.0
PRODID:-//ChamberMaster//Event Calendar 2.0//EN
METHOD:PUBLISH
X-PUBLISHED-TTL:P3D
REFRESH-INTERVAL:P3D
CALSCALE:GREGORIAN
BEGIN:VEVENT
DTSTART:20140219T233000Z
DTEND:20140219T233000Z
X-MICROSOFT-CDO-ALLDAYEVENT:FALSE
SUMMARY:Neighborhood Meeting Notification
DESCRIPTION:Cityscape Residential is planning to file an application to rezone the property located at 1373 Lexington Road from M-3 Industrial to R-8A Multi-Family Residential to construct an apartment community on the property.\n\n\n\nAdjoining property owners are invited to discuss this proposal before filing for the rezone application. The proposal will be explained and questions will be addressed.
X-ALT-DESC;FMTTYPE=text/html:Cityscape Residential is planning to file an application to rezone the property located at 1373 Lexington Road from M-3 Industrial to R-8A Multi-Family Residential to construct an apartment community on the property.<br />\n<br />\nAdjoining property owners are invited to discuss this proposal before filing for the rezone application. The proposal will be explained and questions will be addressed.<br />\n
LOCATION:at Kentuckiana Girl Scouts\, 2115 Lexington Road\, Louisville\, KY.
UID:e.9037.1707
SEQUENCE:3
DTSTAMP:20260425T235631Z
URL:https://business.stmatthewschamber.com/events/details/neighborhood-meeting-notification-02-19-2014-1707
END:VEVENT

END:VCALENDAR
