BEGIN:VCALENDAR
VERSION:2.0
PRODID:-//ChamberMaster//Event Calendar 2.0//EN
METHOD:PUBLISH
X-PUBLISHED-TTL:P3D
REFRESH-INTERVAL:P3D
CALSCALE:GREGORIAN
BEGIN:VEVENT
DTSTART:20260408T123000Z
DTEND:20260408T133000Z
X-MICROSOFT-CDO-ALLDAYEVENT:FALSE
SUMMARY:WINSday Leads Group
DESCRIPTION:Come join our WINSday Leads Group! Bring plenty of Business Cards! :)\n\n\n\nIn order to become a Member after visiting\, please email amandah@thechamberstmatthews.com to fill out the application to join.
X-ALT-DESC;FMTTYPE=text/html:<span style="font-size: 14px\;">Come join our WINSday Leads Group! Bring plenty of Business Cards! :)<br />\n<br />\n<span style="font-size:20px\;"><strong>In order to become a Member after visiting\, please email amandah@thechamberstmatthews.com to fill out the application to join.&nbsp\;</strong></span></span>
LOCATION:Belmont Village Senior Living 4600 Bowling Blvd Louisville\, KY 40207 2nd Floor Towne Hall Center
UID:e.9037.11495
SEQUENCE:3
DTSTAMP:20260420T053310Z
URL:https://business.stmatthewschamber.com/events/details/motivational-morning-leads-group-04-08-2026-11495
END:VEVENT

END:VCALENDAR
