BEGIN:VCALENDAR
VERSION:2.0
PRODID:-//ChamberMaster//Event Calendar 2.0//EN
METHOD:PUBLISH
X-PUBLISHED-TTL:P3D
REFRESH-INTERVAL:P3D
CALSCALE:GREGORIAN
BEGIN:VEVENT
DTSTART:20120710T153000Z
DTEND:20120710T170000Z
X-MICROSOFT-CDO-ALLDAYEVENT:FALSE
SUMMARY:Monthly Marketing Meeting
DESCRIPTION:Meeting for the Marketing Committee.
X-ALT-DESC;FMTTYPE=text/html:Meeting for the Marketing Committee.
LOCATION:
UID:e.9037.110
SEQUENCE:3
DTSTAMP:20260422T094116Z
URL:https://business.stmatthewschamber.com/events/details/monthly-marketing-meeting-07-10-2012-110
END:VEVENT

END:VCALENDAR
