BEGIN:VCALENDAR
VERSION:2.0
PRODID:-//ChamberMaster//Event Calendar 2.0//EN
METHOD:PUBLISH
X-PUBLISHED-TTL:P3D
REFRESH-INTERVAL:P3D
CALSCALE:GREGORIAN
BEGIN:VEVENT
DTSTART:20140508T213000Z
DTEND:20140508T233000Z
X-MICROSOFT-CDO-ALLDAYEVENT:FALSE
SUMMARY:Money Management For Women
DESCRIPTION:Free Educational program for a better understanding of money management issues and opportunities.
X-ALT-DESC;FMTTYPE=text/html:Free Educational program for a better understanding of money management issues and opportunities.
LOCATION:The Episcopal Church Home 7504 Westport Road Louisville\, KY 40222
UID:e.9037.1852
SEQUENCE:3
DTSTAMP:20260426T033007Z
URL:https://business.stmatthewschamber.com/events/details/money-management-for-women-05-08-2014-1852
END:VEVENT

END:VCALENDAR
