BEGIN:VCALENDAR
VERSION:2.0
PRODID:-//ChamberMaster//Event Calendar 2.0//EN
METHOD:PUBLISH
X-PUBLISHED-TTL:P3D
REFRESH-INTERVAL:P3D
CALSCALE:GREGORIAN
BEGIN:VEVENT
DTSTART:20130926T190000Z
DTEND:20130926T230000Z
X-MICROSOFT-CDO-ALLDAYEVENT:FALSE
SUMMARY:Miller Document Solutions Ribbon Cutting
DESCRIPTION:There will be hors d'oeuvres\, beverages\, and door prizes.
X-ALT-DESC;FMTTYPE=text/html:There will be hors d&#39\;oeuvres\, beverages\, and door prizes.
LOCATION:11470 Bluegrass Parkway
UID:e.9037.1613
SEQUENCE:3
DTSTAMP:20260425T180829Z
URL:https://business.stmatthewschamber.com/events/details/miller-document-solutions-ribbon-cutting-09-26-2013-1613
END:VEVENT

END:VCALENDAR
