BEGIN:VCALENDAR
VERSION:2.0
PRODID:-//ChamberMaster//Event Calendar 2.0//EN
METHOD:PUBLISH
X-PUBLISHED-TTL:P3D
REFRESH-INTERVAL:P3D
CALSCALE:GREGORIAN
BEGIN:VEVENT
DTSTART:20120523T120000Z
DTEND:20120523T130000Z
X-MICROSOFT-CDO-ALLDAYEVENT:FALSE
SUMMARY:Member Orientation
DESCRIPTION:Join us for the St. Matthews Chamber Member Orientation!\n\n\n\nMembership Services Coordinator Cal Pfeiffer  will let you know everything you ever wanted to know about the Chamber and then some. The orientation is held every six weeks at alternate times\, either 9 a.m. or noon. RSVP is required as seating is limited.\n\n\n\nJoin us today to get involved and watch your business start to evolve!
X-ALT-DESC;FMTTYPE=text/html:<span class="cm_editor_fix">Join us for the St. Matthews Chamber Member Orientation!<br />\n<br />\nMembership Services Coordinator Cal Pfeiffer&nbsp\; will let you know everything you ever wanted to know about the Chamber and then some. The orientation is held every six weeks at alternate times\, either 9 a.m. or noon. RSVP is <span data-mce-style="font-size: 14px\;" style="font-size: 14px\;"><strong><span data-mce-style="color: #ff0000\;" style="color: #ff0000\;">required</span></strong></span> as seating is limited.<br />\n<br />\nJoin us today to get involved and watch your business start to evolve!</span>
LOCATION:3940 Grandview Avenue 3rd Floor Conference Room
UID:e.9037.1065
SEQUENCE:3
DTSTAMP:20260424T115534Z
URL:https://business.stmatthewschamber.com/events/details/member-orientation-05-23-2012-1065
END:VEVENT

END:VCALENDAR
